BEGIN:VCALENDAR
VERSION:2.0
PRODID:-//Paderborner Frauenchor - ECPv6.15.20//NONSGML v1.0//EN
CALSCALE:GREGORIAN
METHOD:PUBLISH
X-WR-CALNAME:Paderborner Frauenchor
X-ORIGINAL-URL:http://paderborner-frauenchor.de
X-WR-CALDESC:Veranstaltungen für Paderborner Frauenchor
REFRESH-INTERVAL;VALUE=DURATION:PT1H
X-Robots-Tag:noindex
X-PUBLISHED-TTL:PT1H
BEGIN:VTIMEZONE
TZID:Europe/Berlin
BEGIN:DAYLIGHT
TZOFFSETFROM:+0100
TZOFFSETTO:+0200
TZNAME:CEST
DTSTART:20240331T010000
END:DAYLIGHT
BEGIN:STANDARD
TZOFFSETFROM:+0200
TZOFFSETTO:+0100
TZNAME:CET
DTSTART:20241027T010000
END:STANDARD
BEGIN:DAYLIGHT
TZOFFSETFROM:+0100
TZOFFSETTO:+0200
TZNAME:CEST
DTSTART:20250330T010000
END:DAYLIGHT
BEGIN:STANDARD
TZOFFSETFROM:+0200
TZOFFSETTO:+0100
TZNAME:CET
DTSTART:20251026T010000
END:STANDARD
BEGIN:DAYLIGHT
TZOFFSETFROM:+0100
TZOFFSETTO:+0200
TZNAME:CEST
DTSTART:20260329T010000
END:DAYLIGHT
BEGIN:STANDARD
TZOFFSETFROM:+0200
TZOFFSETTO:+0100
TZNAME:CET
DTSTART:20261025T010000
END:STANDARD
END:VTIMEZONE
BEGIN:VTIMEZONE
TZID:UTC
BEGIN:STANDARD
TZOFFSETFROM:+0000
TZOFFSETTO:+0000
TZNAME:UTC
DTSTART:20240101T000000
END:STANDARD
END:VTIMEZONE
BEGIN:VEVENT
DTSTART;TZID=Europe/Berlin:20251206T150000
DTEND;TZID=Europe/Berlin:20251206T170000
DTSTAMP:20260422T172218
CREATED:20241230T132644Z
LAST-MODIFIED:20251119T175809Z
UID:626-1765033200-1765040400@paderborner-frauenchor.de
SUMMARY:Singen in der Liborigalerie
DESCRIPTION:
URL:http://paderborner-frauenchor.de/event/singen-in-der-liborigalerie-2/
END:VEVENT
BEGIN:VEVENT
DTSTART;TZID=UTC:20251207T170000
DTEND;TZID=UTC:20251207T170000
DTSTAMP:20260422T172218
CREATED:20241230T132802Z
LAST-MODIFIED:20251119T175739Z
UID:628-1765126800-1765126800@paderborner-frauenchor.de
SUMMARY:Advents- und Weihnachtsliederwunschsingen
DESCRIPTION:gemeinsam mit der Blechwerkstatt
URL:http://paderborner-frauenchor.de/event/advents-und-weihnachtsliederwunschsingen/
END:VEVENT
BEGIN:VEVENT
DTSTART;TZID=Europe/Berlin:20251214T143000
DTEND;TZID=Europe/Berlin:20251214T170000
DTSTAMP:20260422T172218
CREATED:20251119T175545Z
LAST-MODIFIED:20251119T175611Z
UID:696-1765722600-1765731600@paderborner-frauenchor.de
SUMMARY:Singen im Stadion
DESCRIPTION:
URL:http://paderborner-frauenchor.de/event/singen-im-stadion/
END:VEVENT
BEGIN:VEVENT
DTSTART;TZID=UTC:20251217T193000
DTEND;TZID=UTC:20251217T213000
DTSTAMP:20260422T172218
CREATED:20241230T132859Z
LAST-MODIFIED:20241230T132900Z
UID:630-1765999800-1766007000@paderborner-frauenchor.de
SUMMARY:Weihnachtsfeier
DESCRIPTION:
URL:http://paderborner-frauenchor.de/event/weihnachtsfeier/
END:VEVENT
END:VCALENDAR