BEGIN:VCALENDAR
VERSION:2.0
PRODID:-//Paderborner Frauenchor - ECPv6.15.20//NONSGML v1.0//EN
CALSCALE:GREGORIAN
METHOD:PUBLISH
X-ORIGINAL-URL:http://paderborner-frauenchor.de
X-WR-CALDESC:Veranstaltungen für Paderborner Frauenchor
REFRESH-INTERVAL;VALUE=DURATION:PT1H
X-Robots-Tag:noindex
X-PUBLISHED-TTL:PT1H
BEGIN:VTIMEZONE
TZID:UTC
BEGIN:STANDARD
TZOFFSETFROM:+0000
TZOFFSETTO:+0000
TZNAME:UTC
DTSTART:20230101T000000
END:STANDARD
END:VTIMEZONE
BEGIN:VTIMEZONE
TZID:Europe/Berlin
BEGIN:DAYLIGHT
TZOFFSETFROM:+0100
TZOFFSETTO:+0200
TZNAME:CEST
DTSTART:20230326T010000
END:DAYLIGHT
BEGIN:STANDARD
TZOFFSETFROM:+0200
TZOFFSETTO:+0100
TZNAME:CET
DTSTART:20231029T010000
END:STANDARD
BEGIN:DAYLIGHT
TZOFFSETFROM:+0100
TZOFFSETTO:+0200
TZNAME:CEST
DTSTART:20240331T010000
END:DAYLIGHT
BEGIN:STANDARD
TZOFFSETFROM:+0200
TZOFFSETTO:+0100
TZNAME:CET
DTSTART:20241027T010000
END:STANDARD
BEGIN:DAYLIGHT
TZOFFSETFROM:+0100
TZOFFSETTO:+0200
TZNAME:CEST
DTSTART:20250330T010000
END:DAYLIGHT
BEGIN:STANDARD
TZOFFSETFROM:+0200
TZOFFSETTO:+0100
TZNAME:CET
DTSTART:20251026T010000
END:STANDARD
BEGIN:DAYLIGHT
TZOFFSETFROM:+0100
TZOFFSETTO:+0200
TZNAME:CEST
DTSTART:20260329T010000
END:DAYLIGHT
BEGIN:STANDARD
TZOFFSETFROM:+0200
TZOFFSETTO:+0100
TZNAME:CET
DTSTART:20261025T010000
END:STANDARD
END:VTIMEZONE
BEGIN:VEVENT
DTSTART;TZID=UTC:20251217T193000
DTEND;TZID=UTC:20251217T213000
DTSTAMP:20260422T092236
CREATED:20241230T132859Z
LAST-MODIFIED:20241230T132900Z
UID:630-1765999800-1766007000@paderborner-frauenchor.de
SUMMARY:Weihnachtsfeier
DESCRIPTION:
URL:http://paderborner-frauenchor.de/event/weihnachtsfeier/
END:VEVENT
BEGIN:VEVENT
DTSTART;TZID=Europe/Berlin:20251214T143000
DTEND;TZID=Europe/Berlin:20251214T170000
DTSTAMP:20260422T092236
CREATED:20251119T175545Z
LAST-MODIFIED:20251119T175611Z
UID:696-1765722600-1765731600@paderborner-frauenchor.de
SUMMARY:Singen im Stadion
DESCRIPTION:
URL:http://paderborner-frauenchor.de/event/singen-im-stadion/
END:VEVENT
BEGIN:VEVENT
DTSTART;TZID=UTC:20251207T170000
DTEND;TZID=UTC:20251207T170000
DTSTAMP:20260422T092236
CREATED:20241230T132802Z
LAST-MODIFIED:20251119T175739Z
UID:628-1765126800-1765126800@paderborner-frauenchor.de
SUMMARY:Advents- und Weihnachtsliederwunschsingen
DESCRIPTION:gemeinsam mit der Blechwerkstatt
URL:http://paderborner-frauenchor.de/event/advents-und-weihnachtsliederwunschsingen/
END:VEVENT
BEGIN:VEVENT
DTSTART;TZID=Europe/Berlin:20251206T150000
DTEND;TZID=Europe/Berlin:20251206T170000
DTSTAMP:20260422T092236
CREATED:20241230T132644Z
LAST-MODIFIED:20251119T175809Z
UID:626-1765033200-1765040400@paderborner-frauenchor.de
SUMMARY:Singen in der Liborigalerie
DESCRIPTION:
URL:http://paderborner-frauenchor.de/event/singen-in-der-liborigalerie-2/
END:VEVENT
BEGIN:VEVENT
DTSTART;TZID=Europe/Berlin:20251116T100000
DTEND;TZID=Europe/Berlin:20251116T170000
DTSTAMP:20260422T092236
CREATED:20241230T132459Z
LAST-MODIFIED:20241230T132459Z
UID:623-1763287200-1763312400@paderborner-frauenchor.de
SUMMARY:Singen am Mahnmal
DESCRIPTION:Kranzniederlegung und Gedenken der Toten
URL:http://paderborner-frauenchor.de/event/singen-am-mahnmal/
LOCATION:Mahnmal am Busdorfwall\, Paderborn
END:VEVENT
BEGIN:VEVENT
DTSTART;VALUE=DATE:20250913
DTEND;VALUE=DATE:20250914
DTSTAMP:20260422T092236
CREATED:20241230T132303Z
LAST-MODIFIED:20241230T132303Z
UID:621-1757721600-1757807999@paderborner-frauenchor.de
SUMMARY:Teilnahme an der Nacht der Kirchen
DESCRIPTION:im Imad-Jahr
URL:http://paderborner-frauenchor.de/event/teilnahme-an-der-nacht-der-kirchen/
END:VEVENT
BEGIN:VEVENT
DTSTART;VALUE=DATE:20250730
DTEND;VALUE=DATE:20250731
DTSTAMP:20260422T092236
CREATED:20241230T132156Z
LAST-MODIFIED:20241230T132157Z
UID:619-1753833600-1753919999@paderborner-frauenchor.de
SUMMARY:Waffelbackaktion in der Libori-Oase
DESCRIPTION:
URL:http://paderborner-frauenchor.de/event/waffelbackaktion-in-der-libori-oase/
END:VEVENT
BEGIN:VEVENT
DTSTART;TZID=Europe/Berlin:20250706T140000
DTEND;TZID=Europe/Berlin:20250706T170000
DTSTAMP:20260422T092236
CREATED:20241230T132057Z
LAST-MODIFIED:20250417T125605Z
UID:617-1751810400-1751821200@paderborner-frauenchor.de
SUMMARY:Konzert mit dem Männerchor Harmonie im Arminiuspark an der Lippequelle\, Bad Lippspringe
DESCRIPTION:„Summer Open Air“- Konzert mit dem Männerchor Harmonie
URL:http://paderborner-frauenchor.de/event/konzert-im-landesgartenschau-gelaende-bad-lippspringe/
LOCATION:Arminiuspark an der Lippequelle in Bad Lippspringe\, Bad Lippspringe
END:VEVENT
BEGIN:VEVENT
DTSTART;TZID=Europe/Berlin:20250601T110000
DTEND;TZID=Europe/Berlin:20250601T170000
DTSTAMP:20260422T092236
CREATED:20241230T131800Z
LAST-MODIFIED:20241230T131800Z
UID:615-1748775600-1748797200@paderborner-frauenchor.de
SUMMARY:Paderbrunch
DESCRIPTION:
URL:http://paderborner-frauenchor.de/event/paderbrunch/
END:VEVENT
BEGIN:VEVENT
DTSTART;VALUE=DATE:20250425
DTEND;VALUE=DATE:20250512
DTSTAMP:20260422T092236
CREATED:20241230T131454Z
LAST-MODIFIED:20241230T131841Z
UID:613-1745539200-1747007999@paderborner-frauenchor.de
SUMMARY:Musikalischer Spaziergang im Karls-Viertel\, Paderborn
DESCRIPTION:Mit 1. stv. Bürgermeister Honervogt
URL:http://paderborner-frauenchor.de/event/musikalischer-spaziergang-im-karls-viertel-paderborn/
END:VEVENT
BEGIN:VEVENT
DTSTART;VALUE=DATE:20250423
DTEND;VALUE=DATE:20250424
DTSTAMP:20260422T092236
CREATED:20241230T131203Z
LAST-MODIFIED:20241230T131857Z
UID:611-1745366400-1745452799@paderborner-frauenchor.de
SUMMARY:keine Probe
DESCRIPTION:
URL:http://paderborner-frauenchor.de/event/keine-probe/
END:VEVENT
BEGIN:VEVENT
DTSTART;TZID=Europe/Berlin:20250329T150000
DTEND;TZID=Europe/Berlin:20250329T170000
DTSTAMP:20260422T092236
CREATED:20241230T131103Z
LAST-MODIFIED:20241230T131910Z
UID:609-1743260400-1743267600@paderborner-frauenchor.de
SUMMARY:Frühlingskonzert in der Liborigalerie\, Paderborn
DESCRIPTION:
URL:http://paderborner-frauenchor.de/event/fruehlingskonzert-in-der-liborigalerie-paderborn/
END:VEVENT
BEGIN:VEVENT
DTSTART;VALUE=DATE:20250226
DTEND;VALUE=DATE:20250227
DTSTAMP:20260422T092236
CREATED:20250213T201548Z
LAST-MODIFIED:20250213T201548Z
UID:651-1740528000-1740614399@paderborner-frauenchor.de
SUMMARY:Chorprobe entfällt
DESCRIPTION:wegen Weiberfastnacht!
URL:http://paderborner-frauenchor.de/event/chorprobe-entfaellt/
END:VEVENT
BEGIN:VEVENT
DTSTART;TZID=Europe/Berlin:20250212T193000
DTEND;TZID=Europe/Berlin:20250212T213000
DTSTAMP:20260422T092236
CREATED:20241230T130752Z
LAST-MODIFIED:20241230T131933Z
UID:599-1739388600-1739395800@paderborner-frauenchor.de
SUMMARY:Jahreshauptversammlung in St. Heinrich\, Paderborn
DESCRIPTION:
URL:http://paderborner-frauenchor.de/event/jahreshauptversammlung-in-st-heinrich-paderborn/
LOCATION:Pfarrheim St. Heinrich\, Paderborn\, Nordstr. 3\, Paderborn\, 33102\, Deutschland
END:VEVENT
BEGIN:VEVENT
DTSTART;TZID=Europe/Berlin:20250115T193000
DTEND;TZID=Europe/Berlin:20250115T213000
DTSTAMP:20260422T092236
CREATED:20241230T130911Z
LAST-MODIFIED:20241230T130911Z
UID:597-1736969400-1736976600@paderborner-frauenchor.de
SUMMARY:1. Probe nach den Weihnachtsferien
DESCRIPTION:
URL:http://paderborner-frauenchor.de/event/1-probe-nach-den-weihnachtsferien/
LOCATION:Pfarrheim St. Heinrich\, Paderborn\, Nordstr. 3\, Paderborn\, 33102\, Deutschland
END:VEVENT
BEGIN:VEVENT
DTSTART;TZID=UTC:20241208T170000
DTEND;TZID=UTC:20241208T190000
DTSTAMP:20260422T092236
CREATED:20240107T165905Z
LAST-MODIFIED:20251119T175333Z
UID:373-1733677200-1733684400@paderborner-frauenchor.de
SUMMARY:Mitsingkonzert in der Marktkirche\, Paderborn
DESCRIPTION:
URL:http://paderborner-frauenchor.de/event/mitsingkonzert-in-der-marktkirche-paderborn/
END:VEVENT
BEGIN:VEVENT
DTSTART;TZID=UTC:20241207T140000
DTEND;TZID=UTC:20241214T163000
DTSTAMP:20260422T092236
CREATED:20240107T165823Z
LAST-MODIFIED:20251119T175436Z
UID:371-1733580000-1734193800@paderborner-frauenchor.de
SUMMARY:Singen in der Liborigalerie
DESCRIPTION:
URL:http://paderborner-frauenchor.de/event/singen-in-der-liborigalerie/
END:VEVENT
BEGIN:VEVENT
DTSTART;TZID=UTC:20241117T103000
DTEND;TZID=UTC:20241117T113000
DTSTAMP:20260422T092236
CREATED:20240107T165701Z
LAST-MODIFIED:20240107T165701Z
UID:369-1731839400-1731843000@paderborner-frauenchor.de
SUMMARY:Singen zum Volkstrauertag am Mahnmal
DESCRIPTION:
URL:http://paderborner-frauenchor.de/event/singen-zum-volkstrauertag-am-mahnmal/
END:VEVENT
BEGIN:VEVENT
DTSTART;TZID=Europe/Berlin:20240921T080000
DTEND;TZID=Europe/Berlin:20240921T170000
DTSTAMP:20260422T092236
CREATED:20240605T124238Z
LAST-MODIFIED:20240605T124414Z
UID:523-1726905600-1726938000@paderborner-frauenchor.de
SUMMARY:Chorfahrt nach Dortmund & Ausstellung "Phönix de Lumières""
DESCRIPTION:
URL:http://paderborner-frauenchor.de/event/chorfahrt-nach-dortmund-ausstellung-phoenix-de-luminiere/
LOCATION:Dortmund
END:VEVENT
BEGIN:VEVENT
DTSTART;TZID=Europe/Berlin:20240914T193000
DTEND;TZID=Europe/Berlin:20240914T210000
DTSTAMP:20260422T092236
CREATED:20240605T124119Z
LAST-MODIFIED:20240605T124119Z
UID:521-1726342200-1726347600@paderborner-frauenchor.de
SUMMARY:Nacht der Kirchen in Paderborn
DESCRIPTION:
URL:http://paderborner-frauenchor.de/event/nacht-der-kirchen-in-paderborn/
END:VEVENT
BEGIN:VEVENT
DTSTART;TZID=Europe/Berlin:20240807T193000
DTEND;TZID=Europe/Berlin:20240807T213000
DTSTAMP:20260422T092236
CREATED:20240605T123727Z
LAST-MODIFIED:20240605T123727Z
UID:515-1723059000-1723066200@paderborner-frauenchor.de
SUMMARY:erste Probe nach den Ferien
DESCRIPTION:
URL:http://paderborner-frauenchor.de/event/erste-probe-nach-den-ferien/
END:VEVENT
BEGIN:VEVENT
DTSTART;TZID=UTC:20240731T100000
DTEND;TZID=UTC:20240731T150000
DTSTAMP:20260422T092236
CREATED:20240107T165546Z
LAST-MODIFIED:20240107T165546Z
UID:367-1722420000-1722438000@paderborner-frauenchor.de
SUMMARY:Waffelstand in der Liborioase
DESCRIPTION:
URL:http://paderborner-frauenchor.de/event/waffelstand-in-der-liborioase/
END:VEVENT
BEGIN:VEVENT
DTSTART;VALUE=DATE:20240710
DTEND;VALUE=DATE:20240801
DTSTAMP:20260422T092236
CREATED:20240605T123549Z
LAST-MODIFIED:20240605T123549Z
UID:513-1720569600-1722470399@paderborner-frauenchor.de
SUMMARY:Sommerpause - keine Probe
DESCRIPTION:
URL:http://paderborner-frauenchor.de/event/sommerpause-keine-probe/
END:VEVENT
BEGIN:VEVENT
DTSTART;TZID=Europe/Berlin:20240703T193000
DTEND;TZID=Europe/Berlin:20240703T213000
DTSTAMP:20260422T092236
CREATED:20240419T100509Z
LAST-MODIFIED:20240605T123338Z
UID:493-1720035000-1720042200@paderborner-frauenchor.de
SUMMARY:Chorprobe/ Sommerausklang
DESCRIPTION:
URL:http://paderborner-frauenchor.de/event/chorprobe-20/
LOCATION:Pfarrheim St. Heinrich\, Paderborn\, Nordstr. 3\, Paderborn\, 33102\, Deutschland
END:VEVENT
BEGIN:VEVENT
DTSTART;TZID=Europe/Berlin:20240626T193000
DTEND;TZID=Europe/Berlin:20240626T213000
DTSTAMP:20260422T092236
CREATED:20240419T100434Z
LAST-MODIFIED:20240419T100434Z
UID:491-1719430200-1719437400@paderborner-frauenchor.de
SUMMARY:Chorprobe
DESCRIPTION:
URL:http://paderborner-frauenchor.de/event/chorprobe-19/
LOCATION:Pfarrheim St. Heinrich\, Paderborn\, Nordstr. 3\, Paderborn\, 33102\, Deutschland
END:VEVENT
BEGIN:VEVENT
DTSTART;TZID=Europe/Berlin:20240612T193000
DTEND;TZID=Europe/Berlin:20240612T213000
DTSTAMP:20260422T092236
CREATED:20240419T100326Z
LAST-MODIFIED:20240419T100326Z
UID:487-1718220600-1718227800@paderborner-frauenchor.de
SUMMARY:Chorprobe
DESCRIPTION:
URL:http://paderborner-frauenchor.de/event/chorprobe-17/
LOCATION:Pfarrheim St. Heinrich\, Paderborn\, Nordstr. 3\, Paderborn\, 33102\, Deutschland
END:VEVENT
BEGIN:VEVENT
DTSTART;TZID=UTC:20240608T150000
DTEND;TZID=UTC:20240608T170000
DTSTAMP:20260422T092236
CREATED:20240605T123938Z
LAST-MODIFIED:20240605T123938Z
UID:517-1717858800-1717866000@paderborner-frauenchor.de
SUMMARY:Musikalischer Spaziergang durch das Riemekeviertel
DESCRIPTION:
URL:http://paderborner-frauenchor.de/event/musikalischer-spaziergang-durch-das-riemekeviertel/
LOCATION:Kreisverwaltung\, Paderborn
END:VEVENT
BEGIN:VEVENT
DTSTART;TZID=Europe/Berlin:20240605T193000
DTEND;TZID=Europe/Berlin:20240605T213000
DTSTAMP:20260422T092236
CREATED:20240419T100215Z
LAST-MODIFIED:20240419T100215Z
UID:485-1717615800-1717623000@paderborner-frauenchor.de
SUMMARY:Chorprobe
DESCRIPTION:
URL:http://paderborner-frauenchor.de/event/chorprobe-16/
LOCATION:Pfarrheim St. Heinrich\, Paderborn\, Nordstr. 3\, Paderborn\, 33102\, Deutschland
END:VEVENT
BEGIN:VEVENT
DTSTART;TZID=Europe/Berlin:20240529T193000
DTEND;TZID=Europe/Berlin:20240529T213000
DTSTAMP:20260422T092236
CREATED:20240419T100142Z
LAST-MODIFIED:20240419T100142Z
UID:483-1717011000-1717018200@paderborner-frauenchor.de
SUMMARY:Chorprobe
DESCRIPTION:
URL:http://paderborner-frauenchor.de/event/chorprobe-15/
LOCATION:Pfarrheim St. Heinrich\, Paderborn\, Nordstr. 3\, Paderborn\, 33102\, Deutschland
END:VEVENT
BEGIN:VEVENT
DTSTART;TZID=Europe/Berlin:20240522T193000
DTEND;TZID=Europe/Berlin:20240522T213000
DTSTAMP:20260422T092236
CREATED:20240419T100103Z
LAST-MODIFIED:20240419T100103Z
UID:481-1716406200-1716413400@paderborner-frauenchor.de
SUMMARY:Chorprobe
DESCRIPTION:
URL:http://paderborner-frauenchor.de/event/chorprobe-14/
LOCATION:Pfarrheim St. Heinrich\, Paderborn\, Nordstr. 3\, Paderborn\, 33102\, Deutschland
END:VEVENT
END:VCALENDAR